BEGIN:VCALENDAR
VERSION:2.0
PRODID:-//Selkie Sound Healing - ECPv6.15.18//NONSGML v1.0//EN
CALSCALE:GREGORIAN
METHOD:PUBLISH
X-WR-CALNAME:Selkie Sound Healing
X-ORIGINAL-URL:https://selkiehealing.co.uk
X-WR-CALDESC:Events for Selkie Sound Healing
REFRESH-INTERVAL;VALUE=DURATION:PT1H
X-Robots-Tag:noindex
X-PUBLISHED-TTL:PT1H
BEGIN:VTIMEZONE
TZID:Europe/London
BEGIN:DAYLIGHT
TZOFFSETFROM:+0000
TZOFFSETTO:+0100
TZNAME:BST
DTSTART:20230326T010000
END:DAYLIGHT
BEGIN:STANDARD
TZOFFSETFROM:+0100
TZOFFSETTO:+0000
TZNAME:GMT
DTSTART:20231029T010000
END:STANDARD
BEGIN:DAYLIGHT
TZOFFSETFROM:+0000
TZOFFSETTO:+0100
TZNAME:BST
DTSTART:20240331T010000
END:DAYLIGHT
BEGIN:STANDARD
TZOFFSETFROM:+0100
TZOFFSETTO:+0000
TZNAME:GMT
DTSTART:20241027T010000
END:STANDARD
BEGIN:DAYLIGHT
TZOFFSETFROM:+0000
TZOFFSETTO:+0100
TZNAME:BST
DTSTART:20250330T010000
END:DAYLIGHT
BEGIN:STANDARD
TZOFFSETFROM:+0100
TZOFFSETTO:+0000
TZNAME:GMT
DTSTART:20251026T010000
END:STANDARD
END:VTIMEZONE
BEGIN:VEVENT
DTSTART;TZID=Europe/London:20240421T160000
DTEND;TZID=Europe/London:20240421T183000
DTSTAMP:20260422T022008
CREATED:20240418T144543Z
LAST-MODIFIED:20240513T150313Z
UID:373-1713715200-1713724200@selkiehealing.co.uk
SUMMARY:Spring Yin Yoga & Soundbath
DESCRIPTION:Yin Yoga & Soundbath\nwith Selkie Sound Healing \n21st April 4-6:30\nCheddar Catholic Church Hall \nJoin Anna and Jae for\nSlow Sunday Yoga\nBegining with a meditation and gentle yin yoga class (suitable for all).\nFollowed by a sound bath with gongs\, and finsihing with a hot drink. \nYou will leave feeling relaxed and restored. \n£28
URL:https://selkiehealing.co.uk/event/spring-yin-yoga-soundbath/
LOCATION:Cheddar Catholic Church Hall
CATEGORIES:Sound Healing,Yin Yoga
ATTACH;FMTTYPE=image/jpeg:https://selkiehealing.co.uk/wp-content/uploads/2024/04/sundayyoga.jpg
END:VEVENT
END:VCALENDAR