BEGIN:VCALENDAR
VERSION:2.0
PRODID:-//Selkie Sound Healing - ECPv6.15.18//NONSGML v1.0//EN
CALSCALE:GREGORIAN
METHOD:PUBLISH
X-ORIGINAL-URL:https://selkiehealing.co.uk
X-WR-CALDESC:Events for Selkie Sound Healing
REFRESH-INTERVAL;VALUE=DURATION:PT1H
X-Robots-Tag:noindex
X-PUBLISHED-TTL:PT1H
BEGIN:VTIMEZONE
TZID:Europe/London
BEGIN:DAYLIGHT
TZOFFSETFROM:+0000
TZOFFSETTO:+0100
TZNAME:BST
DTSTART:20230326T010000
END:DAYLIGHT
BEGIN:STANDARD
TZOFFSETFROM:+0100
TZOFFSETTO:+0000
TZNAME:GMT
DTSTART:20231029T010000
END:STANDARD
BEGIN:DAYLIGHT
TZOFFSETFROM:+0000
TZOFFSETTO:+0100
TZNAME:BST
DTSTART:20240331T010000
END:DAYLIGHT
BEGIN:STANDARD
TZOFFSETFROM:+0100
TZOFFSETTO:+0000
TZNAME:GMT
DTSTART:20241027T010000
END:STANDARD
BEGIN:DAYLIGHT
TZOFFSETFROM:+0000
TZOFFSETTO:+0100
TZNAME:BST
DTSTART:20250330T010000
END:DAYLIGHT
BEGIN:STANDARD
TZOFFSETFROM:+0100
TZOFFSETTO:+0000
TZNAME:GMT
DTSTART:20251026T010000
END:STANDARD
END:VTIMEZONE
BEGIN:VEVENT
DTSTART;TZID=Europe/London:20240705T191500
DTEND;TZID=Europe/London:20240705T191500
DTSTAMP:20260425T145042
CREATED:20240605T101115Z
LAST-MODIFIED:20240629T192750Z
UID:455-1720206900-1720206900@selkiehealing.co.uk
SUMMARY:Deep Rest Sound Bath (5th July) @ The River Room
DESCRIPTION:Join us at the Westbury Wildlife Park Foundation for an evening of relaxation and rejuvenation\, every two weeks! \nImmerse yourself in the soothing sounds of crystal singing bowls\, chimes\, and other instruments to help you unwind and find deep rest.\nLet the vibrations of the sound bath wash away your stress and tension\, leaving you feeling refreshed and restored. Whether you’re a seasoned meditator or new to the practice\, this event is perfect for anyone looking to unwind and recharge.\nPlease bring a pillow\, eye mask and a blanket so that you are warm and comfortable for your sound journey.
URL:https://selkiehealing.co.uk/event/deep-rest-sound-bath-the-river-room-2/
LOCATION:(The River Room) Westbury Wildlife Park Foundation\, Trym Road\, Bristol\, BS9 3ET\, United Kingdom
CATEGORIES:Sound Healing
ATTACH;FMTTYPE=image/png:https://selkiehealing.co.uk/wp-content/uploads/2024/06/5th-july.png
ORGANIZER;CN="Selkie Healing":MAILTO:jae@selkiehealing.co.uk
END:VEVENT
BEGIN:VEVENT
DTSTART;TZID=Europe/London:20240719T191500
DTEND;TZID=Europe/London:20240719T191500
DTSTAMP:20260425T145042
CREATED:20240605T102722Z
LAST-MODIFIED:20240629T192658Z
UID:458-1721416500-1721416500@selkiehealing.co.uk
SUMMARY:Deep Rest Sound Bath (19th July) @ The River Room
DESCRIPTION:Join us at the Westbury Wildlife Park Foundation for an evening of relaxation and rejuvenation\, every two weeks! \nImmerse yourself in the soothing sounds of crystal singing bowls\, chimes\, and other instruments to help you unwind and find deep rest.\nLet the vibrations of the sound bath wash away your stress and tension\, leaving you feeling refreshed and restored. Whether you’re a seasoned meditator or new to the practice\, this event is perfect for anyone looking to unwind and recharge.\nPlease bring a pillow\, eye mask and a blanket so that you are warm and comfortable for your sound journey.
URL:https://selkiehealing.co.uk/event/deep-rest-sound-bath-the-river-room-3/
LOCATION:(The River Room) Westbury Wildlife Park Foundation\, Trym Road\, Bristol\, BS9 3ET\, United Kingdom
CATEGORIES:Sound Healing
ATTACH;FMTTYPE=image/png:https://selkiehealing.co.uk/wp-content/uploads/2024/06/19th-July.png
ORGANIZER;CN="Selkie Healing":MAILTO:jae@selkiehealing.co.uk
END:VEVENT
BEGIN:VEVENT
DTSTART;TZID=Europe/London:20240728T150000
DTEND;TZID=Europe/London:20240728T160000
DTSTAMP:20260425T145042
CREATED:20240716T190317Z
LAST-MODIFIED:20240716T190317Z
UID:496-1722178800-1722182400@selkiehealing.co.uk
SUMMARY:Surrender to Softness Sound Bath
DESCRIPTION:Welcome to the Surrender to Softness Sound Bath event! Join us at the Bristol School of Yoga for an evening of relaxation and rejuvenation. Immerse yourself in the soothing sounds of crystal singing bowls\, chimes\, and other instruments as you surrender to the softness of the music. Let go of stress and tension as the sound vibrations wash over you\, bringing a sense of peace and calm. This in-person event is the perfect opportunity to unwind and connect with your inner self. Don’t miss out on this unique experience! \n\n\n\n\nPlease bring a pillow\, an eye mask and a blanket so that you are warm and comfortable for your sound journey. \nContraindications for participation in the sound bath: pregnancy (please message for further information)\, people with pacemakers\, stents or shunts\, sufferers of epilepsy or severe mental health issues. These are just a few please message if you have any concerns.
URL:https://selkiehealing.co.uk/event/surrender-to-softness-sound-bath/
LOCATION:Bristol School of Yoga\, United Kingdom
ATTACH;FMTTYPE=image/jpeg:https://selkiehealing.co.uk/wp-content/uploads/2024/03/IMG_6160.jpeg
ORGANIZER;CN="Selkie Healing":MAILTO:jae@selkiehealing.co.uk
END:VEVENT
END:VCALENDAR